BEGIN:VCALENDAR
VERSION:2.0
PRODID:-//eHotelier Events - ECPv6.15.20//NONSGML v1.0//EN
CALSCALE:GREGORIAN
METHOD:PUBLISH
X-ORIGINAL-URL:https://events.ehotelier.com
X-WR-CALDESC:Events for eHotelier Events
REFRESH-INTERVAL;VALUE=DURATION:PT1H
X-Robots-Tag:noindex
X-PUBLISHED-TTL:PT1H
BEGIN:VTIMEZONE
TZID:Asia/Bangkok
BEGIN:STANDARD
TZOFFSETFROM:+0700
TZOFFSETTO:+0700
TZNAME:+07
DTSTART:20240101T000000
END:STANDARD
END:VTIMEZONE
BEGIN:VEVENT
DTSTART;TZID=Asia/Bangkok:20251002T103000
DTEND;TZID=Asia/Bangkok:20251002T190000
DTSTAMP:20260421T093040
CREATED:20250704T215632Z
LAST-MODIFIED:20251002T194252Z
UID:22711-1759401000-1759431600@events.ehotelier.com
SUMMARY:RESORT MARKETING CONFERENCE – PHUKET
DESCRIPTION:[vc_row][vc_column][mk_image src=”https://asia.hsmai.org/wp-content/uploads/sites/12/2024/11/2025_phuket_lnkedin-1-scaled.jpg” image_size=”full” frame_style=”single_line” align=”center”][vc_empty_space][vc_custom_heading text=”RESORT MARKETING CONFERENCE – PHUKET” font_container=”tag:h5|font_size:27|text_align:center|color:%2352247f” use_theme_fonts=”yes” css=””][vc_custom_heading text=”Thursday 02 October\, 2025″ font_container=”tag:h5|font_size:23|text_align:center|color:%2352247f” use_theme_fonts=”yes” css=””][vc_column_text css=”.vc_custom_1731002010011{margin-bottom: 0px !important;}”] \nJoin us for a unique opportunity to see Hotel leaders sharing their knowledge and experience in Resort Marketing\, Commercial Management\, Sales & Revenue Optimization. Our expert speakers will provide you with invaluable insights and strategies to drive your business in 2025. \nRegister today for the Resort Marketing Conference Asia to upskill your knowledge and next-level budget planning in beautiful Phuket! \n[/vc_column_text][/vc_column][/vc_row][vc_row disable_element=”yes”][vc_column][vc_empty_space][vc_custom_heading text=”PARTNERS” font_container=”tag:h2|font_size:40|text_align:center|color:%2352247f” use_theme_fonts=”yes” css=””][/vc_column][/vc_row][vc_row disable_element=”yes”][vc_column width=”1/3″][/vc_column][vc_column width=”1/3″][/vc_column][vc_column width=”1/3″][/vc_column][/vc_row]
URL:https://events.ehotelier.com/event/resort-marketing-conference-phuket/
CATEGORIES:Commercial,Commercial Strategy,Conference,Events
ATTACH;FMTTYPE=image/jpeg:https://events.ehotelier.com/wp-content/uploads/sites/4/2025/07/featured-square-NvjMlo.jpg
END:VEVENT
END:VCALENDAR