BEGIN:VCALENDAR
VERSION:2.0
PRODID:-//eHotelier Events - ECPv6.15.20//NONSGML v1.0//EN
CALSCALE:GREGORIAN
METHOD:PUBLISH
X-ORIGINAL-URL:https://events.ehotelier.com
X-WR-CALDESC:Events for eHotelier Events
REFRESH-INTERVAL;VALUE=DURATION:PT1H
X-Robots-Tag:noindex
X-PUBLISHED-TTL:PT1H
BEGIN:VTIMEZONE
TZID:Asia/Kolkata
BEGIN:STANDARD
TZOFFSETFROM:+0530
TZOFFSETTO:+0530
TZNAME:IST
DTSTART:20240101T000000
END:STANDARD
END:VTIMEZONE
BEGIN:VEVENT
DTSTART;TZID=Asia/Kolkata:20250801T080000
DTEND;TZID=Asia/Kolkata:20250801T170000
DTSTAMP:20260421T125635
CREATED:20250503T171250Z
LAST-MODIFIED:20250625T212625Z
UID:22347-1754035200-1754067600@events.ehotelier.com
SUMMARY:COMMERCIAL LEADERS FORUM – DELHI CONFERENCE
DESCRIPTION:[vc_row][vc_column][mk_image src=”https://asia.hsmai.org/wp-content/uploads/sites/12/2024/11/2025_india_lnkedin-scaled.jpg” image_size=”full” frame_style=”single_line” align=”center”][vc_empty_space][vc_custom_heading text=”COMMERCIAL LEADERS FORUM – DELHI” font_container=”tag:h5|font_size:27|text_align:center|color:%2352247f” use_theme_fonts=”yes” css=””][vc_custom_heading text=”Friday 01 August\, 2025″ font_container=”tag:h5|font_size:23|text_align:center|color:%2352247f” use_theme_fonts=”yes” css=””][vc_column_text css=”.vc_custom_1731002566573{margin-bottom: 0px !important;}”] \nThis one day event is where you will connect with like-minded professionals\, share best practices\, and build meaningful relationships with industry experts and peers. The conference provides a collaborative environment where you can expand your professional network and gain valuable insights from peer professionals across the country enabling you to take key insights back to your hotel to implement. \n[/vc_column_text][/vc_column][/vc_row]
URL:https://events.ehotelier.com/event/commercial-leaders-forum-delhi-conference/
CATEGORIES:Commercial Strategy,Conference,Events
ATTACH;FMTTYPE=image/jpeg:https://events.ehotelier.com/wp-content/uploads/sites/4/2025/05/2025_india_square-QXKHl4.jpg
END:VEVENT
END:VCALENDAR