BEGIN:VCALENDAR
VERSION:2.0
PRODID:-//eHotelier Events - ECPv6.15.20//NONSGML v1.0//EN
CALSCALE:GREGORIAN
METHOD:PUBLISH
X-WR-CALNAME:eHotelier Events
X-ORIGINAL-URL:https://events.ehotelier.com
X-WR-CALDESC:Events for eHotelier Events
REFRESH-INTERVAL;VALUE=DURATION:PT1H
X-Robots-Tag:noindex
X-PUBLISHED-TTL:PT1H
BEGIN:VTIMEZONE
TZID:Europe/London
BEGIN:DAYLIGHT
TZOFFSETFROM:+0000
TZOFFSETTO:+0100
TZNAME:BST
DTSTART:20240331T010000
END:DAYLIGHT
BEGIN:STANDARD
TZOFFSETFROM:+0100
TZOFFSETTO:+0000
TZNAME:GMT
DTSTART:20241027T010000
END:STANDARD
BEGIN:DAYLIGHT
TZOFFSETFROM:+0000
TZOFFSETTO:+0100
TZNAME:BST
DTSTART:20250330T010000
END:DAYLIGHT
BEGIN:STANDARD
TZOFFSETFROM:+0100
TZOFFSETTO:+0000
TZNAME:GMT
DTSTART:20251026T010000
END:STANDARD
BEGIN:DAYLIGHT
TZOFFSETFROM:+0000
TZOFFSETTO:+0100
TZNAME:BST
DTSTART:20260329T010000
END:DAYLIGHT
BEGIN:STANDARD
TZOFFSETFROM:+0100
TZOFFSETTO:+0000
TZNAME:GMT
DTSTART:20261025T010000
END:STANDARD
END:VTIMEZONE
BEGIN:VTIMEZONE
TZID:Asia/Singapore
BEGIN:STANDARD
TZOFFSETFROM:+0800
TZOFFSETTO:+0800
TZNAME:+08
DTSTART:20240101T000000
END:STANDARD
END:VTIMEZONE
BEGIN:VEVENT
DTSTART;TZID=Europe/London:20251127T100000
DTEND;TZID=Europe/London:20251127T110000
DTSTAMP:20260421T125214
CREATED:20251023T172715Z
LAST-MODIFIED:20251127T191121Z
UID:23359-1764237600-1764241200@events.ehotelier.com
SUMMARY:The Budget Breakdown: Survival\, Strategy and Growth for Hospitality
DESCRIPTION:As the hospitality sector prepares to navigate the new fiscal landscape\, our expert panel breaks down what the latest UK Budget means for operators\, investors\, and business leaders. \nJoin Head of Professional Development Aymen Fetouak MIH\, IoH CEO Robert Richardson FIH MI\, IoH Chair Martin Traynor OBE FIH\, Chair of the Night Time Industries Association (NTIA) Sacha Lord FIH\, Declan O’Connell from Menzies and Abhijeet Soni of QX Global as they explore key financial impacts across tax\, VAT\, business rates\, and employment costs\, while addressing the wider challenges of inflation\, energy pricing\, and profitability in 2026.\nGain practical insight into how businesses of all sizes can adapt\, protect margins\, and plan for sustainable growth in a rapidly changing economy.
URL:https://events.ehotelier.com/event/the-budget-breakdown-survival-strategy-and-growth-for-hospitality/
LOCATION:Online Webinar Institute of Hospitality
CATEGORIES:CPD event,Webinars
ATTACH;FMTTYPE=image/jpeg:https://events.ehotelier.com/wp-content/uploads/sites/4/2025/11/27-Nov-THe-Budget-Breakdown-Survival-Strategy-Growth-for-Hospitality-1-WAIcjM.jpg
END:VEVENT
BEGIN:VEVENT
DTSTART;TZID=Asia/Singapore:20251127T100000
DTEND;TZID=Asia/Singapore:20251127T150000
DTSTAMP:20260421T125214
CREATED:20250227T145647Z
LAST-MODIFIED:20251111T221145Z
UID:21863-1764237600-1764255600@events.ehotelier.com
SUMMARY:CRME – Certified Revenue Management Executive Review Class
DESCRIPTION:[vc_row][vc_column][mk_image src=”https://asia.hsmai.org/wp-content/uploads/sites/12/2025/02/crme-review-class-cover.jpg” image_size=”large”][mk_padding_divider][vc_column_text css=”.vc_custom_1744966986466{margin-bottom: 0px !important;}”] \nJoin the CRME Review Course\, and take a major step toward HSMAI Global certification!\nHSMAI certifications are important because the more you know — and the more you can demonstrate what you know — the better ROI you can provide to your company\, the more you can improve its bottom line\, and the better you can position your career. \n\n\n\n\nWhy attend the Review Course?\nThese review courses cover the essential concepts outlined in the certification study guides for each discipline\, offering the perfect final ‘cram session’ before you take the certification exam. You’ll have the flexibility to take the exam either immediately after the course or at a time that suits you best. \nHow do I apply for and get the Certification?\nThe HSMAI certification program is a two-part process in which you must complete the application to demonstrate your eligibility (minimum points: 50)\, and then pass an online exam covering the functions performed in your chosen discipline. \nYour application will be assessed on a points basis according to your work profile. The items assessed are: \n\nProfessional Experience\nOn-the-Job Responsibilities\nMembership in an Industry Organization\nLeadership in an Industry Organization\nAuthoring Published Articles\nSpeaking at Industry Programs/Meetings\nHigher Education Coursework\nNon-Academic Coursework\nOther Certifications\n\n\n\n\n\n[/vc_column_text][/vc_column][/vc_row]
URL:https://events.ehotelier.com/event/crme-certified-revenue-management-executive-review-class/
LOCATION:Virtual Instructor-Led
CATEGORIES:Classes,Conference,Revenue,Training Workshop
ATTACH;FMTTYPE=image/jpeg:https://events.ehotelier.com/wp-content/uploads/sites/4/2025/08/2-1-e1753328000986-pYM0zb.jpg
END:VEVENT
BEGIN:VEVENT
DTSTART;TZID=Asia/Singapore:20251127T100000
DTEND;TZID=Asia/Singapore:20251127T150000
DTSTAMP:20260421T125214
CREATED:20250227T145649Z
LAST-MODIFIED:20251111T221146Z
UID:21865-1764237600-1764255600@events.ehotelier.com
SUMMARY:CHSL – Certified Hotel Sales Leader Review Class
DESCRIPTION:[vc_row css=”.vc_custom_1739157492579{padding-top: -20px !important;}”][vc_column][mk_image src=”https://asia.hsmai.org/wp-content/uploads/sites/12/2025/02/crme-review-class-cover.jpg” image_size=”large” align=”center”][mk_padding_divider][vc_column_text css=”.vc_custom_1744967100174{margin-bottom: 0px !important;}”] \nBoost Your Career with the CHSL Sales Leader Certification!Attend this one-day course and walk away with a globally recognised credential in sales leadership.\nRegister Now!\nHSMAI certifications are important because the more you know — and the more you can demonstrate what you know — the better ROI you can provide to your company\, the more you can improve its bottom line\, and the better you can position your career. \n\n\n\n\nWhy attend the Review Course?\nThese review courses cover the essential concepts outlined in the certification study guides for each discipline\, offering the perfect final ‘cram session’ before you take the certification exam. You’ll have the flexibility to take the exam either immediately after the class or at a time that suits you best. \nHow do I apply for and get the Certification?\nThe HSMAI certification program is a two-part process in which you must complete the application to demonstrate your eligibility (minimum points: 50)\, and then pass an online exam covering the functions performed in your chosen discipline. \nYour application will be assessed on a points basis according to your work profile. The items assessed are: \n\nProfessional Experience\nOn-the-Job Responsibilities\nMembership in an Industry Organization\nLeadership in an Industry Organization\nAuthoring Published Articles\nSpeaking at Industry Programs/Meetings\nHigher Education Coursework\nNon-Academic Coursework\nOther Certifications\n\n\n\n\n\n[/vc_column_text][/vc_column][/vc_row]
URL:https://events.ehotelier.com/event/chsl-certified-hotel-sales-leader-review-class/
LOCATION:The Sands Expo & Convention Centre\, 10 Bayrfront Avenue\, Singapore\, 018956\, Singapore
CATEGORIES:Classes,Conference,Sales
ATTACH;FMTTYPE=image/jpeg:https://events.ehotelier.com/wp-content/uploads/sites/4/2025/08/1-3-e1753327813687-e3Wob9.jpg
END:VEVENT
BEGIN:VEVENT
DTSTART;TZID=Europe/London:20251127T150000
DTEND;TZID=Europe/London:20251127T210000
DTSTAMP:20260421T125214
CREATED:20251028T175624Z
LAST-MODIFIED:20251127T191129Z
UID:23374-1764255600-1764277200@events.ehotelier.com
SUMMARY:IoH Nigeria | Gala Dinner
DESCRIPTION:IoH Nigeria would like to invite you to their Gala Dinner taking place on Thursday 27 November 2025 at the Sheraton Lagos Hotel. \nThe evening will include an induction ceremony followed by a delicious dinner. The event begins at 3pm with a cocktail reception and will end at 9pm. \nPrices: \n\nFellows and Members of the Institute 35\,000 NGN\nNon-members 50\,000 NGN\n\n\n\nTo Book\, please click the button below or email nigeriachair@instituteofhospitality.org \n\n.fusion-button.button-1 {border-radius:2px;}Book Now\n\n.fusion-body .fusion-builder-column-0{width:100% !important;margin-top : 0px;margin-bottom : 0px;}.fusion-builder-column-0 > .fusion-column-wrapper {padding-top : 0px !important;padding-right : 0px !important;margin-right : 1.92%;padding-bottom : 0px !important;padding-left : 0px !important;margin-left : 1.92%;}@media only screen and (max-width:1024px) {.fusion-body .fusion-builder-column-0{width:100% !important;}.fusion-builder-column-0 > .fusion-column-wrapper {margin-right : 1.92%;margin-left : 1.92%;}}@media only screen and (max-width:640px) {.fusion-body .fusion-builder-column-0{width:100% !important;}.fusion-builder-column-0 > .fusion-column-wrapper {margin-right : 1.92%;margin-left : 1.92%;}} \n\n.fusion-body .fusion-flex-container.fusion-builder-row-1{ padding-top : 0px;margin-top : 0px;padding-right : 0px;padding-bottom : 0px;margin-bottom : 0px;padding-left : 0px;} \n\n\n\n\n\n\n.fusion-body .fusion-builder-column-1{width:100% !important;margin-top : 0px;margin-bottom : 0px;}.fusion-builder-column-1 > .fusion-column-wrapper {padding-top : 0px !important;padding-right : 0px !important;margin-right : 1.92%;padding-bottom : 0px !important;padding-left : 0px !important;margin-left : 1.92%;}@media only screen and (max-width:1024px) {.fusion-body .fusion-builder-column-1{width:100% !important;}.fusion-builder-column-1 > .fusion-column-wrapper {margin-right : 1.92%;margin-left : 1.92%;}}@media only screen and (max-width:640px) {.fusion-body .fusion-builder-column-1{width:100% !important;}.fusion-builder-column-1 > .fusion-column-wrapper {margin-right : 1.92%;margin-left : 1.92%;}} \n\n.fusion-body .fusion-flex-container.fusion-builder-row-2{ padding-top : 0px;margin-top : 0px;padding-right : 0px;padding-bottom : 0px;margin-bottom : 0px;padding-left : 0px;}
URL:https://events.ehotelier.com/event/ioh-nigeria-gala-dinner/
LOCATION:Sheraton Lagos Hotel\, Anthony Way Ikeja\, Lagos\, 021189\, Nigeria
ATTACH;FMTTYPE=image/jpeg:https://events.ehotelier.com/wp-content/uploads/sites/4/2025/10/Nigeria-event-2025-x3d2jl.jpg
END:VEVENT
BEGIN:VEVENT
DTSTART;TZID=Europe/London:20251127T183000
DTEND;TZID=Europe/London:20251127T233000
DTSTAMP:20260421T125214
CREATED:20251021T172755Z
LAST-MODIFIED:20251117T191138Z
UID:23340-1764268200-1764286200@events.ehotelier.com
SUMMARY:Sip\, Savour & Support | IoH Midlands Dinner
DESCRIPTION:Join the Institute of Hospitality Midlands Region for an unforgettable evening of fine food\, wine\, and inspiration at the iconic Belfry Hotel & Resort. \nThe night begins with welcome drinks and networking in the Brabazon Bar\, followed by a showstopping menu created by Robert Bates\, Executive Chef at The Belfry\, and Luke Tipping\, Culinary Director at Simpsons Birmingham. Each course will be perfectly paired with wines from boutique English producer Silverhands in Kent. \nGuest speaker Nigel Risner will share his renowned insights on leadership and communication\, before a charity auction raises vital funds for the IoH Bursary Fund. \nThe celebrations will continue with live music back in the Brabazon Bar to round off the evening in style. \nMembers and Non-members ticket price: £99 per person \nDress code: Black tie \n\n\n\n\n.fusion-button.button-4 {border-radius:2px;}BOOK YOUR TICKET HERE\n\n.fusion-body .fusion-builder-column-5{width:100% !important;margin-top : 0px;margin-bottom : 0px;}.fusion-builder-column-5 > .fusion-column-wrapper {padding-top : 0px !important;padding-right : 0px !important;margin-right : 1.92%;padding-bottom : 0px !important;padding-left : 0px !important;margin-left : 1.92%;}@media only screen and (max-width:1024px) {.fusion-body .fusion-builder-column-5{width:100% !important;}.fusion-builder-column-5 > .fusion-column-wrapper {margin-right : 1.92%;margin-left : 1.92%;}}@media only screen and (max-width:640px) {.fusion-body .fusion-builder-column-5{width:100% !important;}.fusion-builder-column-5 > .fusion-column-wrapper {margin-right : 1.92%;margin-left : 1.92%;}} \n\n.fusion-body .fusion-flex-container.fusion-builder-row-6{ padding-top : 0px;margin-top : 0px;padding-right : 0px;padding-bottom : 0px;margin-bottom : 0px;padding-left : 0px;}
URL:https://events.ehotelier.com/event/sip-savour-support-ioh-midlands-dinner/
LOCATION:The Belfry Hotel and Resort\, Lichfield Road\, Wishaw\,\, Sutton Coldfield\, B76 9PR\, United Kingdom
CATEGORIES:Charity Event,Dinner,IoH Event,IoH Midlands,Networking Event,Wine Tasting
ATTACH;FMTTYPE=image/jpeg:https://events.ehotelier.com/wp-content/uploads/sites/4/2025/10/IoH-Midlands-Sip-Savour-Event-2025-nIcgza.jpg
ORGANIZER;CN="IoH Midlands":MAILTO:midlandschair@instituteofhospitality.org
END:VEVENT
END:VCALENDAR